BEGIN:VCALENDAR
VERSION:2.0
PRODID:-//hacksw/handcal//NONSGML v1.0//EN
BEGIN:VEVENT
SUMMARY:DECALE !! Meeting sur piste Gourdon
UID:3b7f21b1-4386-4878-9bf4-e4f681378bfb
DTSTART:20260419T080000Z
DTEND:20260419T160000Z
LOCATION:Localisation   
CATEGORIES:Sportif
STATUS:
URL;VALUE=URI:https://www.cahorsathle.com/evenements/2026/04/19/decale-meeting-sur-piste-gourdon-2400350
END:VEVENT
END:VCALENDAR
